BEGIN:VCALENDAR
VERSION:2.0
PRODID:-//ChamberMaster//Event Calendar 2.0//EN
METHOD:PUBLISH
X-PUBLISHED-TTL:P3D
REFRESH-INTERVAL:P3D
CALSCALE:GREGORIAN
BEGIN:VEVENT
DTSTART:20250422T170000Z
DTEND:20250422T180000Z
X-MICROSOFT-CDO-ALLDAYEVENT:FALSE
SUMMARY:Ribbon Cutting for Mattress Today USA Magnolia
DESCRIPTION:All are welcome to join us as we celebrate the Ribbon Cutting for Mattress Today USA Magnolia!
X-ALT-DESC;FMTTYPE=text/html:All are welcome to join us as we celebrate the Ribbon Cutting for Mattress Today USA Magnolia!
LOCATION:714 Honea Egypt Magnolia\, TX 77354
UID:e.392.12272
SEQUENCE:3
DTSTAMP:20260420T153552Z
URL:https://business.swmcchamber.org/events/details/ribbon-cutting-for-mattress-today-usa-magnolia-12272
END:VEVENT

END:VCALENDAR
