BEGIN:VCALENDAR
VERSION:2.0
PRODID:-//ChamberMaster//Event Calendar 2.0//EN
METHOD:PUBLISH
X-PUBLISHED-TTL:P3D
REFRESH-INTERVAL:P3D
CALSCALE:GREGORIAN
BEGIN:VEVENT
DTSTART:20260420T170000Z
DTEND:20260420T180000Z
X-MICROSOFT-CDO-ALLDAYEVENT:FALSE
SUMMARY:Ribbon Cutting - Dr. Hoff Holistic Health & Wellness
DESCRIPTION:Join Us for a Ribbon Cutting at Dr. Hoff Holistic Health & Wellness on Monday\, April 20th at 12:00PM! No registration or fees required to attend this event. Bring a friend\, or ten!
X-ALT-DESC;FMTTYPE=text/html:Join Us for a Ribbon Cutting at Dr. Hoff Holistic Health &amp\; Wellness on Monday\, April 20th at 12:00PM! No registration or fees required to attend this event. Bring a friend\, or ten!
LOCATION:Dr. Hoff Holistic Health & Wellness 18230 FM 1488 Suite 201 Magnolia\, TX 77354
UID:e.392.13686
SEQUENCE:3
DTSTAMP:20260424T010651Z
URL:https://business.swmcchamber.org/events/details/ribbon-cutting-dr-hoff-holistic-health-wellness-13686
END:VEVENT

END:VCALENDAR
