BEGIN:VCALENDAR
VERSION:2.0
PRODID:-//ChamberMaster//Event Calendar 2.0//EN
METHOD:PUBLISH
X-PUBLISHED-TTL:P3D
REFRESH-INTERVAL:P3D
CALSCALE:GREGORIAN
BEGIN:VEVENT
DTSTART:20260514T163000Z
DTEND:20260514T173000Z
X-MICROSOFT-CDO-ALLDAYEVENT:FALSE
SUMMARY:Ribbon Cutting - D&C Thrift Co
DESCRIPTION:Join Us for a Ribbon Cutting at D&C Thrift Co on Thursday\, May 14th at 11:30AM! No registration or fees required to attend this event. Bring a friend\, or ten!
X-ALT-DESC;FMTTYPE=text/html:<span style="color: rgb(0\, 0\, 0)\; font-family: &quot\;Arial Narrow&quot\;\, &quot\;Arial MT Condensed Light&quot\;\, Arial\, sans-serif\; font-size: 16px\;">Join Us for a Ribbon Cutting at D&amp\;C Thrift Co on Thursday\, May 14th at 11:30AM! No registration or fees required to attend this event. Bring a friend\, or ten!</span>
LOCATION:D&C Thrift Co 11281 Village Drive\, Plantersville\, TX 77363
UID:e.392.13703
SEQUENCE:3
DTSTAMP:20260424T070930Z
URL:https://business.swmcchamber.org/events/details/ribbon-cutting-d-c-thrift-co-13703
END:VEVENT

END:VCALENDAR
