BEGIN:VCALENDAR
VERSION:2.0
PRODID:-//ChamberMaster//Event Calendar 2.0//EN
METHOD:PUBLISH
X-PUBLISHED-TTL:P3D
REFRESH-INTERVAL:P3D
CALSCALE:GREGORIAN
BEGIN:VEVENT
DTSTART:20250523T210000Z
DTEND:20250523T230000Z
X-MICROSOFT-CDO-ALLDAYEVENT:FALSE
SUMMARY:Ribbon Cutting & 1 Year Anniversary Celebration: McDonalds
DESCRIPTION:Please join us to celebrate McDonald's 1st year Anniversary and Ribbon Cutting!
X-ALT-DESC;FMTTYPE=text/html:Please join us to celebrate McDonald&#39\;s 1st year Anniversary and Ribbon Cutting!&nbsp\;
LOCATION:13337 FM 1488\, Magnolia\, TX 77354
UID:e.392.12275
SEQUENCE:3
DTSTAMP:20260422T103022Z
URL:https://business.swmcchamber.org/events/details/ribbon-cutting-1-year-anniversary-celebration-mcdonalds-12275
END:VEVENT

END:VCALENDAR
