BEGIN:VCALENDAR
VERSION:2.0
PRODID:-//ChamberMaster//Event Calendar 2.0//EN
METHOD:PUBLISH
X-PUBLISHED-TTL:P3D
REFRESH-INTERVAL:P3D
CALSCALE:GREGORIAN
BEGIN:VEVENT
DTSTART:20250909T123000Z
DTEND:20250909T140000Z
X-MICROSOFT-CDO-ALLDAYEVENT:FALSE
SUMMARY:Networking Breakfast
DESCRIPTION:SWMC Chamber Networking Breakfast   \n\nFuel up on coffee\, connections\, and creativity! Bring your most fun and memorable 30-second commercial there's a prize for the best one! Come ready to network\, laugh\, and leave with new business leads.
X-ALT-DESC;FMTTYPE=text/html:<p style="text-align: center"><strong data-end="129" data-start="92">SWMC Chamber Networking Breakfast</strong> &#129374\;&#9749\;<br data-end="136" data-start="133" />\nFuel up on coffee\, connections\, and creativity! Bring your most fun and memorable 30-second commercial&mdash\;there&rsquo\;s a prize for the best one! Come ready to network\, laugh\, and leave with new business leads.</p>\n
LOCATION:Whataburger - Magnolia Village 13329 FM 1488\, Magnolia
UID:e.392.12170
SEQUENCE:3
DTSTAMP:20260421T083218Z
URL:https://business.swmcchamber.org/events/details/networking-breakfast-09-09-2025-12170
END:VEVENT

END:VCALENDAR
