BEGIN:VCALENDAR
VERSION:2.0
PRODID:-//ChamberMaster//Event Calendar 2.0//EN
METHOD:PUBLISH
X-PUBLISHED-TTL:P3D
REFRESH-INTERVAL:P3D
CALSCALE:GREGORIAN
BEGIN:VEVENT
DTSTART:20250614T160000Z
DTEND:20250614T220000Z
X-MICROSOFT-CDO-ALLDAYEVENT:FALSE
SUMMARY:Momma-Palooza
DESCRIPTION:Momma-Palooza: A Celebration of Motherhood\, Community\, and Fun! Calling all moms! Get ready for Momma-Palooza\, the ultimate event by moms\, for moms\, designed to celebrate\, support\, and pamper YOU! Whether you're looking for a day of self-care\, community connection\, or family fun\, this event has it all. ?? What's in Store? ?? ? Shopping   Explore a curated marketplace featuring amazing products from mom- and women-owned businesses. Support local and treat yourself! ?? Inspiring Speakers   Hear from empowering speakers who share real-life wisdom on motherhood\, self-care\, and more. ????? Mom Pamper Stations   Because moms deserve a break!  ?? Local Resources   Discover helpful local organizations and services designed to support you and your family. Last year we had a foreign exchange student program\, foster care program for youth\, WIC\, Tx Children's\, STAR\, Mama Bears Rising\, and other local community resources who's mission is to strengthen moms and families.  ?? Kids Zone   We know moms have kids\, and we've got them covered! Let your little ones enjoy fun activities\, crafts\, and interactive play while YOU enjoy the event. Plus\, don't miss out on meet-and-greets with Bluey and Moana a magical experience they'll never forget! ?? Join Us! ?? Come for the fun\, stay for the connections\, and leave feeling refreshed\, inspired\, and celebrated. Whether you're a new mom\, a seasoned pro\, or somewhere in between\, Momma-Palooza is your day to shine! ???????? Because when moms thrive\, families and communities do too! ??
X-ALT-DESC;FMTTYPE=text/html:Momma-Palooza: A Celebration of Motherhood\, Community\, and Fun! Calling all moms! Get ready for Momma-Palooza\, the ultimate event by moms\, for moms\, designed to celebrate\, support\, and pamper YOU! Whether you&#39\;re looking for a day of self-care\, community connection\, or family fun\, this event has it all. ?? What&rsquo\;s in Store? ?? ? Shopping &ndash\; Explore a curated marketplace featuring amazing products from mom- and women-owned businesses. Support local and treat yourself! ?? Inspiring Speakers &ndash\; Hear from empowering speakers who share real-life wisdom on motherhood\, self-care\, and more. ????? Mom Pamper Stations &ndash\; Because moms deserve a break!&nbsp\; ?? Local Resources &ndash\; Discover helpful local organizations and services designed to support you and your family. Last year we had a foreign exchange student program\, foster care program for youth\, WIC\, Tx Children&#39\;s\, STAR\, Mama Bears Rising\, and other local community resources who&#39\;s mission is to strengthen moms and families.&nbsp\; ?? Kids Zone &ndash\; We know moms have kids\, and we&rsquo\;ve got them covered! Let your little ones enjoy fun activities\, crafts\, and interactive play while YOU enjoy the event. Plus\, don&rsquo\;t miss out on meet-and-greets with Bluey and Moana&mdash\;a magical experience they&rsquo\;ll never forget! ?? Join Us! ?? Come for the fun\, stay for the connections\, and leave feeling refreshed\, inspired\, and celebrated. Whether you&#39\;re a new mom\, a seasoned pro\, or somewhere in between\, Momma-Palooza is your day to shine! ???????? Because when moms thrive\, families and communities do too! ??
LOCATION:The Spring Chateau
UID:e.392.12267
SEQUENCE:3
DTSTAMP:20260421T083128Z
URL:https://business.swmcchamber.org/events/details/momma-palooza-12267
END:VEVENT

END:VCALENDAR
