BEGIN:VCALENDAR
VERSION:2.0
PRODID:-//ChamberMaster//Event Calendar 2.0//EN
METHOD:PUBLISH
X-PUBLISHED-TTL:P3D
REFRESH-INTERVAL:P3D
CALSCALE:GREGORIAN
BEGIN:VEVENT
DTSTART:20260523T140000Z
DTEND:20260523T170000Z
X-MICROSOFT-CDO-ALLDAYEVENT:FALSE
SUMMARY:Kresston Celebrates Local Artisans at Farm & Foundry May 23
DESCRIPTION:Creativity\, craftsmanship and community will be on display at Farm & Foundry\, an artisan market celebrating local makers\, 9 a.m. to noon Saturday\, May 23. Artisans will display a curated selection of handmade items including crafts\, art\, home d cor and specialty foods for purchase at The Boot House\, 26850 Trailblazers Run in Montgomery. Live music will enhance the experience\, and attendees will have the opportunity to converse with local craftsmen about their creative process. Admission is free. The 1\,465-acre Kresston is located near Magnolia with frontage along State Highway 249 and FM 1486. Learn more at www.kresston.com.
X-ALT-DESC;FMTTYPE=text/html:Creativity\, craftsmanship and community will be on display at Farm &amp\; Foundry\, an artisan market celebrating local makers\, 9 a.m. to noon Saturday\, May 23. Artisans will display a curated selection of handmade items including crafts\, art\, home d&eacute\;cor and specialty foods for purchase at The Boot House\, 26850 Trailblazers Run in Montgomery. Live music will enhance the experience\, and attendees will have the opportunity to converse with local craftsmen about their creative process. Admission is free. The 1\,465-acre Kresston is located near Magnolia with frontage along State Highway 249 and FM 1486. Learn more at www.kresston.com.
LOCATION:The Boot House at Kresston 26850 Trailblazers Run Montgomery\, TX 77316
UID:e.392.13701
SEQUENCE:3
DTSTAMP:20260422T023245Z
URL:https://business.swmcchamber.org/events/details/kresston-celebrates-local-artisans-at-farm-foundry-may-23-13701
END:VEVENT

END:VCALENDAR
