BEGIN:VCALENDAR
VERSION:2.0
PRODID:-//ChamberMaster//Event Calendar 2.0//EN
METHOD:PUBLISH
X-PUBLISHED-TTL:P3D
REFRESH-INTERVAL:P3D
CALSCALE:GREGORIAN
BEGIN:VEVENT
DTSTART:20250807T210000Z
DTEND:20250807T220000Z
X-MICROSOFT-CDO-ALLDAYEVENT:FALSE
SUMMARY:Government Affairs Council
DESCRIPTION:The Government Affairs Council identifies legislation and concepts of importance to the Greater Magnolia Parkway Chamber business community and make recommendations to the Board of Directors for opposing or supporting such legislation. the GAC also conducts candidate forums as appropriate through election cycles.
X-ALT-DESC;FMTTYPE=text/html:The Government Affairs Council identifies legislation and concepts of importance to the Greater Magnolia Parkway Chamber business community and make recommendations to the Board of Directors for opposing or supporting such legislation. the GAC also conducts candidate forums as appropriate through election&nbsp\;cycles.
LOCATION:Chamber Offices 18423 FM 1488\, Suite C Magnolia TX 77355
UID:e.392.12152
SEQUENCE:3
DTSTAMP:20260425T185918Z
URL:https://business.swmcchamber.org/events/details/government-affairs-council-08-07-2025-12152
END:VEVENT

END:VCALENDAR
