BEGIN:VCALENDAR
VERSION:2.0
PRODID:-//ChamberMaster//Event Calendar 2.0//EN
METHOD:PUBLISH
X-PUBLISHED-TTL:P3D
REFRESH-INTERVAL:P3D
CALSCALE:GREGORIAN
BEGIN:VEVENT
DTSTART:20260427T143000Z
DTEND:20260427T150000Z
X-MICROSOFT-CDO-ALLDAYEVENT:FALSE
SUMMARY:Golf Classic Tournament Planning Committee Meeting
DESCRIPTION:2026 Golf Classic Tournament Planning Committee Meeting
X-ALT-DESC;FMTTYPE=text/html:<span style="color: rgb(0\, 0\, 0)\; font-family: &quot\;Arial Narrow&quot\;\, &quot\;Arial MT Condensed Light&quot\;\, Arial\, sans-serif\; font-size: 16px\;">2026 Golf Classic Tournament Planning Committee Meeting</span>
LOCATION:Southwest Montgomery County Chamber of Commerce 18423 FM 1488 Suite C\, Magnolia\, TX 77354
UID:e.392.13705
SEQUENCE:3
DTSTAMP:20260424T083705Z
URL:https://business.swmcchamber.org/events/details/golf-classic-tournament-planning-committee-meeting-13705
END:VEVENT

END:VCALENDAR
