BEGIN:VCALENDAR
VERSION:2.0
PRODID:-//ChamberMaster//Event Calendar 2.0//EN
METHOD:PUBLISH
X-PUBLISHED-TTL:P3D
REFRESH-INTERVAL:P3D
CALSCALE:GREGORIAN
BEGIN:VEVENT
DTSTART:20260915T210000Z
DTEND:20260915T220000Z
X-MICROSOFT-CDO-ALLDAYEVENT:FALSE
SUMMARY:SWMCC Board Meeting
DESCRIPTION:SWMCC Monthly Board Meeting
X-ALT-DESC;FMTTYPE=text/html:SWMCC Monthly Board Meeting&nbsp\;&nbsp\;&nbsp\;&nbsp\;&nbsp\;&nbsp\;&nbsp\;&nbsp\;
LOCATION:Chamber Conference Room 28423 FM 1488\, Suite C Magnolia TX 77354
UID:e.392.8783
SEQUENCE:3
DTSTAMP:20260424T072023Z
URL:https://business.swmcchamber.org/events/details/gmpcc-board-meeting-09-15-2026-8783
END:VEVENT

END:VCALENDAR
