BEGIN:VCALENDAR
VERSION:2.0
PRODID:-//ChamberMaster//Event Calendar 2.0//EN
METHOD:PUBLISH
X-PUBLISHED-TTL:P3D
REFRESH-INTERVAL:P3D
CALSCALE:GREGORIAN
BEGIN:VEVENT
DTSTART:20260519T180000Z
DTEND:20260519T183000Z
X-MICROSOFT-CDO-ALLDAYEVENT:FALSE
SUMMARY:Fall Fest Planning Committee Meeting
DESCRIPTION:Fall Fest Planning Committee Meeting\n\nInterested in Joining the Planning Committee? Call 281-356-1488 or Email Marketing@swmcchamber.org
X-ALT-DESC;FMTTYPE=text/html:<span style="color: rgb(0\, 0\, 0)\; font-family: &quot\;Arial Narrow&quot\;\, &quot\;Arial MT Condensed Light&quot\;\, Arial\, sans-serif\; font-size: 16px\;">Fall Fest Planning Committee Meeting<br />\nInterested in Joining the Planning Committee? Call 281-356-1488 or Email Marketing@swmcchamber.org</span>
LOCATION:Southwest Montgomery County Chamber of Commerce 18423 FM 1488 Suite C\, Magnolia\, TX 77354
UID:e.392.13702
SEQUENCE:3
DTSTAMP:20260424T070533Z
URL:https://business.swmcchamber.org/events/details/fall-fest-planning-committee-meeting-13702
END:VEVENT

END:VCALENDAR
