BEGIN:VCALENDAR
VERSION:2.0
PRODID:-//ChamberMaster//Event Calendar 2.0//EN
METHOD:PUBLISH
X-PUBLISHED-TTL:P3D
REFRESH-INTERVAL:P3D
CALSCALE:GREGORIAN
BEGIN:VEVENT
DTSTART:20260908T140000Z
DTEND:20260909T023000Z
X-MICROSOFT-CDO-ALLDAYEVENT:FALSE
SUMMARY:Ambassador Committee Meeting
DESCRIPTION:Ambassadors are the movers and shakers of the community. YOU are a most valuable resource and extension of the Chamber. We meet the second Tuesday of EVERY Month.... please check Chamber calendar for meeting locations as they may change.
X-ALT-DESC;FMTTYPE=text/html:<strong style="color: rgb(128\, 0\, 128)\; font-family: tahoma\; font-size: 13px\; line-height: 16.64px\; background-color: rgb(255\, 255\, 255)\;"><span style="font-size: 14px\;">Ambassadors are the movers and shakers of the community. YOU are a most valuable resource and extension of the Chamber.&nbsp\;</span></strong><span style="font-family:tahoma\;"><span style="color:#800080\;"><strong><span style="font-size:14px\;">We meet the second Tuesday of EVERY Month.... please check Chamber calendar for meeting locations as they may change.&nbsp\;</span></strong></span></span><br />\n<br />\n&nbsp\; &nbsp\; &nbsp\; &nbsp\; &nbsp\; &nbsp\; &nbsp\; &nbsp\; &nbsp\; &nbsp\; &nbsp\; &nbsp\; &nbsp\; &nbsp\; &nbsp\;
LOCATION:Current Month Networking Breakfast location
UID:e.392.13330
SEQUENCE:3
DTSTAMP:20260424T072626Z
URL:https://business.swmcchamber.org/events/details/ambassador-committee-meeting-09-08-2026-13330
END:VEVENT

END:VCALENDAR
