BEGIN:VCALENDAR
VERSION:2.0
PRODID:-//ChamberMaster//Event Calendar 2.0//EN
METHOD:PUBLISH
X-PUBLISHED-TTL:P3D
REFRESH-INTERVAL:P3D
CALSCALE:GREGORIAN
BEGIN:VEVENT
DTSTART:20261031T160000Z
DTEND:20261031T210000Z
X-MICROSOFT-CDO-ALLDAYEVENT:FALSE
SUMMARY:2026 Fall Fest - Community Children's Fair
DESCRIPTION:October 31\, 2026
X-ALT-DESC;FMTTYPE=text/html:<p><span style="font-size:16px\;">October 31\, 2026</span></p>\n
LOCATION:Magnolia Event Center 11659 Farm to Market Rd 1488 Magnolia\, TX 77354
UID:e.392.13265
SEQUENCE:3
DTSTAMP:20260424T010553Z
URL:https://business.swmcchamber.org/events/details/2026-fall-fest-community-children-s-fair-13265
END:VEVENT

END:VCALENDAR
