BEGIN:VCALENDAR
VERSION:2.0
PRODID:-//ChamberMaster//Event Calendar 2.0//EN
METHOD:PUBLISH
X-PUBLISHED-TTL:P3D
REFRESH-INTERVAL:P3D
CALSCALE:GREGORIAN
BEGIN:VEVENT
DTSTART:20261205T233000Z
DTEND:20261206T010000Z
X-MICROSOFT-CDO-ALLDAYEVENT:FALSE
SUMMARY:2026 - Christmas Parade
DESCRIPTION:The Magic of Christmas Parade of Lights\n\nThe Magic of Christmas Parade of Lights is a wonderful community event. On the first Saturday of December\, the Southwest Montgomery County Chamber of Commerce hosts a parade down the local streets of Magnolia to inspire the Spirit of Christmas. The Magic of Christmas Parade of Lights is a wonderful community event with a great opportunity to promote your business or organization and bring joy to many spectators.  \n\n\n\nThis event is open to the public.\n\n\n\nFor more information on this event please contact 281-356-1488 or events@SWMCChamber.org
X-ALT-DESC;FMTTYPE=text/html:<p open="" style="box-sizing: border-box\; margin: 0px 0px 20px\; color: rgb(0\, 0\, 0)\;"><span style="box-sizing: border-box\; font-weight: 700\;">The Magic of Christmas&nbsp\;Parade of Lights</span></p>\n\n<p open="" style="box-sizing: border-box\; margin: 0px 0px 20px\; color: rgb(0\, 0\, 0)\;">The Magic of Christmas&nbsp\;Parade of Lights is a wonderful community event. On the first Saturday of December\, the Southwest Montgomery County&nbsp\;Chamber of Commerce hosts a parade down the local streets of Magnolia to inspire the Spirit of Christmas. The Magic of Christmas&nbsp\;Parade of Lights is a wonderful community event with a great opportunity to promote your business or organization and bring joy to many spectators.&nbsp\;&nbsp\;<br />\n<br />\n<span style="box-sizing: border-box\; font-weight: 700\;">This event is open to the public.</span><br />\n<br />\n<strong><span style="font-size: 14px\;"><span style="box-sizing: border-box\; font-weight: 700\;">For more information on&nbsp\;this event please contact </span><a class="ctc-link" title="Call via UNIVERGE BLUE? CONNECT">281-356-1488</a> or events</span>@SWMCChamber.org</strong></p>\n
LOCATION:See Parade Route Map Here
UID:e.392.13264
SEQUENCE:3
DTSTAMP:20260422T043332Z
URL:https://business.swmcchamber.org/events/details/2026-christmas-parade-13264
END:VEVENT

END:VCALENDAR
