BEGIN:VCALENDAR
VERSION:2.0
PRODID:-//ChamberMaster//Event Calendar 2.0//EN
METHOD:PUBLISH
X-PUBLISHED-TTL:P3D
REFRESH-INTERVAL:P3D
CALSCALE:GREGORIAN
BEGIN:VEVENT
DTSTART:20260831T223000Z
DTEND:20260901T003000Z
X-MICROSOFT-CDO-ALLDAYEVENT:FALSE
SUMMARY:2025 Taste This\, Try That - Southwest Montgomery County Restaurant & Business Showcase Kickoff Party
DESCRIPTION:Southwest Montgomery County Restaurant & Business Showcase\n\n\n\nTour of the Town dates will be September 1st through October 30th.
X-ALT-DESC;FMTTYPE=text/html:Southwest Montgomery County Restaurant &amp\; Business Showcase<br />\n<br />\nTour of the Town dates will be September 1st through October 30th.
LOCATION:Magnolia Event Center 11659 FM 1488 Magnolia\, Tx 77354
UID:e.392.13286
SEQUENCE:3
DTSTAMP:20260419T230154Z
URL:https://business.swmcchamber.org/events/details/2025-taste-this-try-that-southwest-montgomery-county-restaurant-business-showcase-kickoff-party-13286
END:VEVENT

END:VCALENDAR
